BEGIN:VCALENDAR
METHOD:PUBLISH
PRODID:-//github.com/rianjs/ical.net//NONSGML ical.net 4.0//EN
VERSION:2.0
X-WR-CALNAME:Emily Dickinson PTSA
BEGIN:VEVENT
CREATED:20250729T215627
DESCRIPTION:[[flyer: https://dickinsonptsa.org/Image/Programs/2025-26%20Ar
 t%20Walk%20poster.jpg]]\n
DTEND:20260403T030000Z
DTSTAMP:20260420T000603Z
DTSTART:20260403T010000Z
LAST-MODIFIED:20260307T172045
LOCATION:Old Gym
SEQUENCE:0
STATUS:CONFIRMED
SUMMARY:ART WALK
TRANSP:TRANSPARENT
UID:142222@ourschoolpages.com
END:VEVENT
END:VCALENDAR
