BEGIN:VCALENDAR
METHOD:PUBLISH
PRODID:-//github.com/rianjs/ical.net//NONSGML ical.net 4.0//EN
VERSION:2.0
X-WR-CALNAME:Emily Dickinson PTSA
BEGIN:VEVENT
CREATED:20251012T010334
DESCRIPTION:Return printed [[Math Challenge #13: https://www.mathinaction.
 org/e-dickinsonexplorer-elementary.html]] to your teacher or the front of
 fice.\n
DTEND;VALUE=DATE:20260403
DTSTAMP:20260420T000132Z
DTSTART;VALUE=DATE:20260402
LAST-MODIFIED:20251012T010334
SEQUENCE:0
STATUS:CONFIRMED
SUMMARY:Math Challenge #13 DUE
TRANSP:TRANSPARENT
UID:144420@ourschoolpages.com
END:VEVENT
END:VCALENDAR
