BEGIN:VCALENDAR
METHOD:PUBLISH
PRODID:-//github.com/rianjs/ical.net//NONSGML ical.net 4.0//EN
VERSION:2.0
X-WR-CALNAME:Emily Dickinson PTSA
BEGIN:VEVENT
CREATED:20260128T170816
DTEND:20260331T001000Z
DTSTAMP:20260420T000536Z
DTSTART:20260330T231000Z
LAST-MODIFIED:20260308T112945
LOCATION:Commons
SEQUENCE:0
STATUS:CONFIRMED
SUMMARY:MATH CHALLENGE TOURNAMENT
TRANSP:TRANSPARENT
UID:145208@ourschoolpages.com
END:VEVENT
END:VCALENDAR
